BEGIN:VCALENDAR
VERSION:2.0
PRODID:-//wp-events-plugin.com//7.2.3.1//EN
TZID:Australia/Sydney
X-WR-TIMEZONE:Australia/Sydney
BEGIN:VEVENT
UID:127@npc.org.au
DTSTART;TZID=Australia/Sydney:20251015T113000
DTEND;TZID=Australia/Sydney:20251015T133000
DTSTAMP:20251003T042703Z
URL:https://npc.org.au/events/mike-johnson
SUMMARY:Mike Johnson
DESCRIPTION:Mike Johnson\, Chief Executive Officer of the Australian Indust
 ry & Defence Network (AIDN)\, will Address the National Press Club of Aust
 ralia on "The Race for Sovereignty: Building Australia’s Self-Reliant In
 dustrial and Defence Base by 2035".
ATTACH;FMTTYPE=image/jpeg:https://npc.org.au/wp-content/uploads/2025/09/We
 bsite-Image-17.png
CATEGORIES:Speaker Archive
LOCATION:National Press Club Of Australia\, 16 National Circuit\, Barton\, 
 Canberra\, ACT\, 2600\, Australia
X-APPLE-STRUCTURED-LOCATION;VALUE=URI;X-ADDRESS=16 National Circuit\, Barto
 n\, Canberra\, ACT\, 2600\, Australia;X-APPLE-RADIUS=100;X-TITLE=National 
 Press Club Of Australia:geo:0,0
END:VEVENT
BEGIN:VTIMEZONE
TZID:Australia/Sydney
X-LIC-LOCATION:Australia/Sydney
BEGIN:DAYLIGHT
DTSTART:20251005T030000
TZOFFSETFROM:+1000
TZOFFSETTO:+1100
TZNAME:AEDT
END:DAYLIGHT
END:VTIMEZONE
END:VCALENDAR