BEGIN:VCALENDAR
VERSION:2.0
PRODID:-//wp-events-plugin.com//7.2.3.1//EN
TZID:Australia/Sydney
X-WR-TIMEZONE:Australia/Sydney
BEGIN:VEVENT
UID:144@npc.org.au
DTSTART;TZID=Australia/Sydney:20251118T113000
DTEND;TZID=Australia/Sydney:20251118T133000
DTSTAMP:20251117T222458Z
URL:https://npc.org.au/events/michelle-manook
SUMMARY:Michelle Manook
DESCRIPTION:Michelle Manook\, Chief Executive of FutureCoal\, will Address 
 the National Press Club of Australia on "Thank You for Not Coaling— when
  the world insists coal has no future\, what would you do?".
ATTACH;FMTTYPE=image/jpeg:https://npc.org.au/wp-content/uploads/2025/10/We
 bsite-Image-43.png
CATEGORIES:Speaker Archive
LOCATION:National Press Club Of Australia\, 16 National Circuit\, Barton\, 
 Canberra\, ACT\, 2600\, Australia
X-APPLE-STRUCTURED-LOCATION;VALUE=URI;X-ADDRESS=16 National Circuit\, Barto
 n\, Canberra\, ACT\, 2600\, Australia;X-APPLE-RADIUS=100;X-TITLE=National 
 Press Club Of Australia:geo:0,0
END:VEVENT
BEGIN:VTIMEZONE
TZID:Australia/Sydney
X-LIC-LOCATION:Australia/Sydney
BEGIN:DAYLIGHT
DTSTART:20251005T030000
TZOFFSETFROM:+1000
TZOFFSETTO:+1100
TZNAME:AEDT
END:DAYLIGHT
END:VTIMEZONE
END:VCALENDAR