BEGIN:VCALENDAR
VERSION:2.0
PRODID:-//wp-events-plugin.com//7.2.3.1//EN
TZID:Australia/Sydney
X-WR-TIMEZONE:Australia/Sydney
BEGIN:VEVENT
UID:197@npc.org.au
DTSTART;TZID=Australia/Sydney:20260507T113000
DTEND;TZID=Australia/Sydney:20260507T133000
DTSTAMP:20260420T020435Z
URL:https://npc.org.au/events/luci-ellis-jo-masters-aruna-sathanapally
SUMMARY:Luci Ellis\, Jo Masters & Aruna Sathanapally
DESCRIPTION:Luci Ellis\, Chief Economist Westpac Group\, Jo Masters\, Chief
  Economist of Barrenjoey Capital Partners & Dr Aruna Sathanapally\, CEO of
  the Grattan Institute will Address the National Press Club of Australia f
 or the Women in Economics Network Pre Budget Address.
ATTACH;FMTTYPE=image/jpeg:https://npc.org.au/wp-content/uploads/2026/04/We
 bsite-Image-11.jpg
CATEGORIES:Speakers
LOCATION:National Press Club Of Australia\, 16 National Circuit\, Barton\, 
 Canberra\, ACT\, 2600\, Australia
X-APPLE-STRUCTURED-LOCATION;VALUE=URI;X-ADDRESS=16 National Circuit\, Barto
 n\, Canberra\, ACT\, 2600\, Australia;X-APPLE-RADIUS=100;X-TITLE=National 
 Press Club Of Australia:geo:0,0
END:VEVENT
BEGIN:VTIMEZONE
TZID:Australia/Sydney
X-LIC-LOCATION:Australia/Sydney
BEGIN:STANDARD
DTSTART:20260405T020000
TZOFFSETFROM:+1100
TZOFFSETTO:+1000
TZNAME:AEST
END:STANDARD
END:VTIMEZONE
END:VCALENDAR