BEGIN:VCALENDAR
VERSION:2.0
PRODID:-//wp-events-plugin.com//7.2.3.1//EN
TZID:Australia/Sydney
X-WR-TIMEZONE:Australia/Sydney
BEGIN:VEVENT
UID:122@npc.org.au
DTSTART;TZID=Australia/Sydney:20250917T113000
DTEND;TZID=Australia/Sydney:20250917T133000
DTSTAMP:20250916T233719Z
URL:https://npc.org.au/events/dr-vanessa-pirotta
SUMMARY:Dr Vanessa Pirotta
DESCRIPTION:Dr Vanessa Pirotta\, leading wildlife scientist\, will address 
 the National Press Club of Australia on "Australia’s Scientific Future: 
 Built on Education\, Connection and Investment."
ATTACH;FMTTYPE=image/jpeg:https://npc.org.au/wp-content/uploads/2025/09/We
 bsite-Image-11.png
CATEGORIES:Speaker Archive
LOCATION:National Press Club Of Australia\, 16 National Circuit\, Barton\, 
 Canberra\, ACT\, 2600\, Australia
X-APPLE-STRUCTURED-LOCATION;VALUE=URI;X-ADDRESS=16 National Circuit\, Barto
 n\, Canberra\, ACT\, 2600\, Australia;X-APPLE-RADIUS=100;X-TITLE=National 
 Press Club Of Australia:geo:0,0
END:VEVENT
BEGIN:VTIMEZONE
TZID:Australia/Sydney
X-LIC-LOCATION:Australia/Sydney
BEGIN:STANDARD
DTSTART:20250406T020000
TZOFFSETFROM:+1100
TZOFFSETTO:+1000
TZNAME:AEST
END:STANDARD
END:VTIMEZONE
END:VCALENDAR