BEGIN:VCALENDAR
VERSION:2.0
PRODID:-//wp-events-plugin.com//7.2.3.1//EN
TZID:Australia/Sydney
X-WR-TIMEZONE:Australia/Sydney
BEGIN:VEVENT
UID:73@npc.org.au
DTSTART;TZID=Australia/Sydney:20250716T113000
DTEND;TZID=Australia/Sydney:20250716T133000
DTSTAMP:20250721T060257Z
URL:https://npc.org.au/events/dr-ken-henry-ac-fassa-faiia
SUMMARY:Dr Ken Henry AC FASSA FAIIA
DESCRIPTION:Dr Ken Henry AC FASSA FAIIA\, Chair of the Australian Climate a
 nd Biodiversity Foundation\, will Address the National Press Club of Austr
 alia on "Our last\, best chance - national environment laws to restore nat
 ure and power the net zero economy".
ATTACH;FMTTYPE=image/jpeg:https://npc.org.au/wp-content/uploads/2025/06/Ch
 erelle-Murphy-Leonora-Risse-Diana-Mousina-92.png
CATEGORIES:Speaker Archive
LOCATION:National Press Club Of Australia\, 16 National Circuit\, Barton\, 
 Canberra\, ACT\, 2600\, Australia
X-APPLE-STRUCTURED-LOCATION;VALUE=URI;X-ADDRESS=16 National Circuit\, Barto
 n\, Canberra\, ACT\, 2600\, Australia;X-APPLE-RADIUS=100;X-TITLE=National 
 Press Club Of Australia:geo:0,0
END:VEVENT
BEGIN:VTIMEZONE
TZID:Australia/Sydney
X-LIC-LOCATION:Australia/Sydney
BEGIN:STANDARD
DTSTART:20250406T020000
TZOFFSETFROM:+1100
TZOFFSETTO:+1000
TZNAME:AEST
END:STANDARD
END:VTIMEZONE
END:VCALENDAR